BEGIN:VCALENDAR
VERSION:2.0
PRODID:-//Little CodeLab - ECPv6.0.12//NONSGML v1.0//EN
CALSCALE:GREGORIAN
METHOD:PUBLISH
X-WR-CALNAME:Little CodeLab
X-ORIGINAL-URL:https://littlecodelab.com
X-WR-CALDESC:Events for Little CodeLab
REFRESH-INTERVAL;VALUE=DURATION:PT1H
X-Robots-Tag:noindex
X-PUBLISHED-TTL:PT1H
BEGIN:VTIMEZONE
TZID:UTC
BEGIN:STANDARD
TZOFFSETFROM:+0000
TZOFFSETTO:+0000
TZNAME:UTC
DTSTART:20190101T000000
END:STANDARD
END:VTIMEZONE
BEGIN:VEVENT
DTSTART;TZID=UTC:20190727T100000
DTEND;TZID=UTC:20190728T163000
DTSTAMP:20260421T200352
CREATED:20190707T062132Z
LAST-MODIFIED:20190707T062132Z
UID:2912-1564221600-1564331400@littlecodelab.com
SUMMARY:Little Entrepreneur 2 Days Workshop
DESCRIPTION:Little Entrepreneur 2 Days Workshop\n?‍??‍?Business and Entrepreneurship Workshop for kids!! \nCourse designed by Jean Y.Foo (Award Winning Educator and Influencer) from Singapore who has experience of 15 years in GLOBAL EDUCATION INDUSTRY” \nWhat is ?‍??‍?Little Entrepreneurs workshop? \n✔To raise kids to be entrepreneurs?‍? in the future\n✔To develop Business mindset and money mind since young age. \nWe have developed a socially responsible business model which provides opportunities for kids to develop real-life experience\, business skills\, entrepreneurship and innovation with positive\, supportive\, innovative teaching and learning techniques. \n?Why kids should learn and develop BUSINESS mindset since young age? \n• Business mindset \n• Confidence \n• Idea to action \n• Problem solving \n• Innovation \n• Money minded \n• Leadership and Management \n• Team Work \n?What do kids learn from Little Entrepreneur? \n• Where Do Ideas Come From? \n• Products and Competitors \n• Product Strengths and Weaknesses \n• Customer Profile \n• How Will Customers Learn About Your Business? \n• Making A Sales Pitch \n• Competitor Analysis: Price\, Cost\, Features and Value. \nThere will be business presentation\, Award Ceremony and reception at the end of workshop!!??
URL:https://littlecodelab.com/event/free-trial-workshop-yangon-2-2-2-2-2-2-2-2/
LOCATION:Yangon\, Yangon: G10-12\, Ground Fl\, Building A/B\, Kabaraye Pagoda Rd\, Pearl Condominium\,\, Yangon\, Myanmar
CATEGORIES:Workshop
ATTACH;FMTTYPE=image/jpeg:https://littlecodelab.com/wp-content/uploads/2019/07/30.jpg
ORGANIZER;CN="Little%20CodeLab":MAILTO:info@heinw6.sg-host.com
END:VEVENT
BEGIN:VEVENT
DTSTART;TZID=UTC:20190622T100000
DTEND;TZID=UTC:20190623T163000
DTSTAMP:20260421T200352
CREATED:20190611T070916Z
LAST-MODIFIED:20190611T070916Z
UID:2901-1561197600-1561307400@littlecodelab.com
SUMMARY:Little Entrepreneur 2 Days Workshop
DESCRIPTION:Little Entrepreneur 2 Days Workshop\n?‍??‍?Business and Entrepreneurship Workshop for kids!! \nJean Y.Foo (Award Winning Educator and Influencer) from Singapore who has experience of 15 years in GLOBAL EDUCATION INDUSTRY will be the trainer for “Little Entrepreneurs Workshop…” \nWhat is ?‍??‍?Little Entrepreneurs workshop? \n✔To raise kids to be entrepreneurs?‍? in the future\n✔To develop Business mindset and money mind since young age. \nWe have developed a socially responsible business model which provides opportunities for kids to develop real-life experience\, business skills\, entrepreneurship and innovation with positive\, supportive\, innovative teaching and learning techniques. \n?Why kids should learn and develop BUSINESS mindset since young age? \n• Business mindset \n• Confidence \n• Idea to action \n• Problem solving \n• Innovation \n• Money minded \n• Leadership and Management \n• Team Work \n?What do kids learn from Little Entrepreneur? \n• Where Do Ideas Come From? \n• Products and Competitors \n• Product Strengths and Weaknesses \n• Customer Profile \n• How Will Customers Learn About Your Business? \n• Making A Sales Pitch \n• Competitor Analysis: Price\, Cost\, Features and Value. \nThere will be business presentation\, Award Ceremony and reception at the end of workshop!!??
URL:https://littlecodelab.com/event/free-trial-workshop-yangon-2-2-2-2-2-2-2/
LOCATION:Yangon\, Yangon: G10-12\, Ground Fl\, Building A/B\, Kabaraye Pagoda Rd\, Pearl Condominium\,\, Yangon\, Myanmar
CATEGORIES:Workshop
ATTACH;FMTTYPE=image/jpeg:https://littlecodelab.com/wp-content/uploads/2019/06/Little-Entrepreneur.jpg
ORGANIZER;CN="Little%20CodeLab":MAILTO:info@heinw6.sg-host.com
END:VEVENT
BEGIN:VEVENT
DTSTART;TZID=UTC:20190512T160000
DTEND;TZID=UTC:20190512T180000
DTSTAMP:20260421T200352
CREATED:20190506T120743Z
LAST-MODIFIED:20190506T120743Z
UID:2890-1557676800-1557684000@littlecodelab.com
SUMMARY:Mother's Day Event! Pair-Program Workshop
DESCRIPTION:Mother’s Day Pair-program\n?‍?  Parent and children sit down at one computer and program together to make a game or animation for mother! Both are going to work on the same project. One will be the Driver (coder) and the other will be the Navigator. You can switch afterwards. \nIn addition to the benefits of learning to code\, Pair Program will improve the followings: \n✔Team work and Bonding between parents and kids\n✔Two heads are better the one\n✔Better Creativity and Focus\n✔Finish tasks quickly\n✔Better problem-solving skills\n✔Lots of fun \nSo\, let’s celebrate? an effective and happy moment for your mom with Little CodeLab.\n?Seats are limited…. \nRSVP at: +95-9-2525 222 11\n+95-9-2550 222 11 \ninfo@heinw6.sg-host.com
URL:https://littlecodelab.com/event/free-trial-workshop-yangon-2-2-2-2-2-2/
LOCATION:Yangon\, Yangon: G10-12\, Ground Fl\, Building A/B\, Kabaraye Pagoda Rd\, Pearl Condominium\,\, Yangon\, Myanmar
CATEGORIES:Trial
ATTACH;FMTTYPE=image/jpeg:https://littlecodelab.com/wp-content/uploads/2019/05/For-Event.jpg
ORGANIZER;CN="Little%20CodeLab":MAILTO:info@heinw6.sg-host.com
END:VEVENT
BEGIN:VEVENT
DTSTART;TZID=UTC:20190429T173000
DTEND;TZID=UTC:20190429T183000
DTSTAMP:20260421T200352
CREATED:20190318T105249Z
LAST-MODIFIED:20190318T105249Z
UID:2663-1556559000-1556562600@littlecodelab.com
SUMMARY:FREE Trial Workshop Yangon!
DESCRIPTION:Agenda\n5-10 min What is Coding or Programming?\nExample and classroom activity\n15-20 min Create your 1st own mini game or app\n5-10 min Fun time with DIY tool kit\n10-15 min Programming the Robots or Drones!\n10 min Virtual Reality Experience or Coding with Minecraft or 3D Game\nDesign with Roblox\nRSVP at: +95-9-2525 222 11\n+95-9-2550 222 11
URL:https://littlecodelab.com/event/free-trial-workshop-yangon-2-2-2-2-2/
LOCATION:Yangon\, Yangon: G10-12\, Ground Fl\, Building A/B\, Kabaraye Pagoda Rd\, Pearl Condominium\,\, Yangon\, Myanmar
CATEGORIES:Trial
ATTACH;FMTTYPE=image/jpeg:https://littlecodelab.com/wp-content/uploads/2019/03/46395272_349585095851098_7910920362949345280_o.jpg
ORGANIZER;CN="Little%20CodeLab":MAILTO:info@heinw6.sg-host.com
END:VEVENT
BEGIN:VEVENT
DTSTART;TZID=UTC:20190426T163000
DTEND;TZID=UTC:20190426T173000
DTSTAMP:20260421T200352
CREATED:20190318T105118Z
LAST-MODIFIED:20190318T105118Z
UID:2661-1556296200-1556299800@littlecodelab.com
SUMMARY:FREE Trial Workshop Mandalay!
DESCRIPTION:Agenda\n5-10 min What is Coding or Programming?\nExample and classroom activity\n15-20 min Create your 1st own mini game or app\n5-10 min Fun time with DIY tool kit\n10-15 min Programming the Robots or Drones!\n10 min Virtual Reality Experience or Coding with Minecraft or 3D Game\nDesign with Roblox\nRSVP at: +95-9-2525 222 11\n+95-9-2550 222 11
URL:https://littlecodelab.com/event/free-trial-workshop-mandalay-2-2-2-2-2/
LOCATION:Mandalay\, Ma 84/2\, 35th St\, Bet: 52nd & Mdy-Pywin Oo Lwin St\, Yemon Taung\,\, Mandalay\, Myanmar
CATEGORIES:Trial
ATTACH;FMTTYPE=image/jpeg:https://littlecodelab.com/wp-content/uploads/2019/03/New-Project-2-min.jpg
ORGANIZER;CN="Little%20CodeLab":MAILTO:info@heinw6.sg-host.com
END:VEVENT
BEGIN:VEVENT
DTSTART;TZID=UTC:20190422T173000
DTEND;TZID=UTC:20190422T183000
DTSTAMP:20260421T200352
CREATED:20190318T105024Z
LAST-MODIFIED:20190318T105024Z
UID:2659-1555954200-1555957800@littlecodelab.com
SUMMARY:FREE Trial Workshop Yangon!
DESCRIPTION:Agenda\n5-10 min What is Coding or Programming?\nExample and classroom activity\n15-20 min Create your 1st own mini game or app\n5-10 min Fun time with DIY tool kit\n10-15 min Programming the Robots or Drones!\n10 min Virtual Reality Experience or Coding with Minecraft or 3D Game\nDesign with Roblox\nRSVP at: +95-9-2525 222 11\n+95-9-2550 222 11
URL:https://littlecodelab.com/event/free-trial-workshop-yangon-2-2-2-2/
LOCATION:Yangon\, Yangon: G10-12\, Ground Fl\, Building A/B\, Kabaraye Pagoda Rd\, Pearl Condominium\,\, Yangon\, Myanmar
CATEGORIES:Trial
ATTACH;FMTTYPE=image/jpeg:https://littlecodelab.com/wp-content/uploads/2019/03/46395272_349585095851098_7910920362949345280_o.jpg
ORGANIZER;CN="Little%20CodeLab":MAILTO:info@heinw6.sg-host.com
END:VEVENT
BEGIN:VEVENT
DTSTART;TZID=UTC:20190419T163000
DTEND;TZID=UTC:20190419T173000
DTSTAMP:20260421T200352
CREATED:20190318T103814Z
LAST-MODIFIED:20190318T103814Z
UID:2657-1555691400-1555695000@littlecodelab.com
SUMMARY:FREE Trial Workshop Mandalay!
DESCRIPTION:Agenda\n5-10 min What is Coding or Programming?\nExample and classroom activity\n15-20 min Create your 1st own mini game or app\n5-10 min Fun time with DIY tool kit\n10-15 min Programming the Robots or Drones!\n10 min Virtual Reality Experience or Coding with Minecraft or 3D Game\nDesign with Roblox\nRSVP at: +95-9-2525 222 11\n+95-9-2550 222 11
URL:https://littlecodelab.com/event/free-trial-workshop-mandalay-2-2-2-2/
LOCATION:Mandalay\, Ma 84/2\, 35th St\, Bet: 52nd & Mdy-Pywin Oo Lwin St\, Yemon Taung\,\, Mandalay\, Myanmar
CATEGORIES:Trial
ATTACH;FMTTYPE=image/jpeg:https://littlecodelab.com/wp-content/uploads/2019/03/New-Project-2-min.jpg
ORGANIZER;CN="Little%20CodeLab":MAILTO:info@heinw6.sg-host.com
END:VEVENT
BEGIN:VEVENT
DTSTART;TZID=UTC:20190415T173000
DTEND;TZID=UTC:20190415T183000
DTSTAMP:20260421T200352
CREATED:20190318T103718Z
LAST-MODIFIED:20190318T103718Z
UID:2655-1555349400-1555353000@littlecodelab.com
SUMMARY:FREE Trial Workshop Yangon!
DESCRIPTION:Agenda\n5-10 min What is Coding or Programming?\nExample and classroom activity\n15-20 min Create your 1st own mini game or app\n5-10 min Fun time with DIY tool kit\n10-15 min Programming the Robots or Drones!\n10 min Virtual Reality Experience or Coding with Minecraft or 3D Game\nDesign with Roblox\nRSVP at: +95-9-2525 222 11\n+95-9-2550 222 11
URL:https://littlecodelab.com/event/free-trial-workshop-yangon-2-2-2/
LOCATION:Yangon\, Yangon: G10-12\, Ground Fl\, Building A/B\, Kabaraye Pagoda Rd\, Pearl Condominium\,\, Yangon\, Myanmar
CATEGORIES:Trial
ATTACH;FMTTYPE=image/jpeg:https://littlecodelab.com/wp-content/uploads/2019/03/46395272_349585095851098_7910920362949345280_o.jpg
ORGANIZER;CN="Little%20CodeLab":MAILTO:info@heinw6.sg-host.com
END:VEVENT
BEGIN:VEVENT
DTSTART;TZID=UTC:20190412T163000
DTEND;TZID=UTC:20190412T173000
DTSTAMP:20260421T200352
CREATED:20190318T095645Z
LAST-MODIFIED:20190318T095645Z
UID:2653-1555086600-1555090200@littlecodelab.com
SUMMARY:FREE Trial Workshop Mandalay!
DESCRIPTION:Agenda\n5-10 min What is Coding or Programming?\nExample and classroom activity\n15-20 min Create your 1st own mini game or app\n5-10 min Fun time with DIY tool kit\n10-15 min Programming the Robots or Drones!\n10 min Virtual Reality Experience or Coding with Minecraft or 3D Game\nDesign with Roblox\nRSVP at: +95-9-2525 222 11\n+95-9-2550 222 11
URL:https://littlecodelab.com/event/free-trial-workshop-mandalay-2-2-2/
LOCATION:Mandalay\, Ma 84/2\, 35th St\, Bet: 52nd & Mdy-Pywin Oo Lwin St\, Yemon Taung\,\, Mandalay\, Myanmar
CATEGORIES:Trial
ATTACH;FMTTYPE=image/jpeg:https://littlecodelab.com/wp-content/uploads/2019/03/New-Project-2-min.jpg
ORGANIZER;CN="Little%20CodeLab":MAILTO:info@heinw6.sg-host.com
END:VEVENT
BEGIN:VEVENT
DTSTART;TZID=UTC:20190408T173000
DTEND;TZID=UTC:20190408T183000
DTSTAMP:20260421T200352
CREATED:20190318T095555Z
LAST-MODIFIED:20190318T095555Z
UID:2651-1554744600-1554748200@littlecodelab.com
SUMMARY:FREE Trial Workshop Yangon!
DESCRIPTION:Agenda\n5-10 min What is Coding or Programming?\nExample and classroom activity\n15-20 min Create your 1st own mini game or app\n5-10 min Fun time with DIY tool kit\n10-15 min Programming the Robots or Drones!\n10 min Virtual Reality Experience or Coding with Minecraft or 3D Game\nDesign with Roblox\nRSVP at: +95-9-2525 222 11\n+95-9-2550 222 11
URL:https://littlecodelab.com/event/free-trial-workshop-yangon-2-2/
LOCATION:Yangon\, Yangon: G10-12\, Ground Fl\, Building A/B\, Kabaraye Pagoda Rd\, Pearl Condominium\,\, Yangon\, Myanmar
CATEGORIES:Trial
ATTACH;FMTTYPE=image/jpeg:https://littlecodelab.com/wp-content/uploads/2019/03/46395272_349585095851098_7910920362949345280_o.jpg
ORGANIZER;CN="Little%20CodeLab":MAILTO:info@heinw6.sg-host.com
END:VEVENT
BEGIN:VEVENT
DTSTART;TZID=UTC:20190405T163000
DTEND;TZID=UTC:20190405T173000
DTSTAMP:20260421T200352
CREATED:20190318T095429Z
LAST-MODIFIED:20190318T095429Z
UID:2649-1554481800-1554485400@littlecodelab.com
SUMMARY:FREE Trial Workshop Mandalay!
DESCRIPTION:Agenda\n5-10 min What is Coding or Programming?\nExample and classroom activity\n15-20 min Create your 1st own mini game or app\n5-10 min Fun time with DIY tool kit\n10-15 min Programming the Robots or Drones!\n10 min Virtual Reality Experience or Coding with Minecraft or 3D Game\nDesign with Roblox\nRSVP at: +95-9-2525 222 11\n+95-9-2550 222 11
URL:https://littlecodelab.com/event/free-trial-workshop-mandalay-2-2/
LOCATION:Mandalay\, Ma 84/2\, 35th St\, Bet: 52nd & Mdy-Pywin Oo Lwin St\, Yemon Taung\,\, Mandalay\, Myanmar
CATEGORIES:Trial
ATTACH;FMTTYPE=image/jpeg:https://littlecodelab.com/wp-content/uploads/2019/03/New-Project-2-min.jpg
ORGANIZER;CN="Little%20CodeLab":MAILTO:info@heinw6.sg-host.com
END:VEVENT
BEGIN:VEVENT
DTSTART;TZID=UTC:20190401T173000
DTEND;TZID=UTC:20190401T183000
DTSTAMP:20260421T200352
CREATED:20190318T095029Z
LAST-MODIFIED:20190318T095029Z
UID:2647-1554139800-1554143400@littlecodelab.com
SUMMARY:FREE Trial Workshop Yangon!
DESCRIPTION:Agenda\n5-10 min What is Coding or Programming?\nExample and classroom activity\n15-20 min Create your 1st own mini game or app\n5-10 min Fun time with DIY tool kit\n10-15 min Programming the Robots or Drones!\n10 min Virtual Reality Experience or Coding with Minecraft or 3D Game\nDesign with Roblox\nRSVP at: +95-9-2525 222 11\n+95-9-2550 222 11
URL:https://littlecodelab.com/event/free-trial-workshop-yangon-2/
LOCATION:Yangon\, Yangon: G10-12\, Ground Fl\, Building A/B\, Kabaraye Pagoda Rd\, Pearl Condominium\,\, Yangon\, Myanmar
CATEGORIES:Trial
ATTACH;FMTTYPE=image/jpeg:https://littlecodelab.com/wp-content/uploads/2019/03/46395272_349585095851098_7910920362949345280_o.jpg
ORGANIZER;CN="Little%20CodeLab":MAILTO:info@heinw6.sg-host.com
END:VEVENT
BEGIN:VEVENT
DTSTART;TZID=UTC:20190329T163000
DTEND;TZID=UTC:20190329T173000
DTSTAMP:20260421T200352
CREATED:20190318T094735Z
LAST-MODIFIED:20190318T094735Z
UID:2645-1553877000-1553880600@littlecodelab.com
SUMMARY:FREE Trial Workshop Mandalay!
DESCRIPTION:Agenda\n5-10 min What is Coding or Programming?\nExample and classroom activity\n15-20 min Create your 1st own mini game or app\n5-10 min Fun time with DIY tool kit\n10-15 min Programming the Robots or Drones!\n10 min Virtual Reality Experience or Coding with Minecraft or 3D Game\nDesign with Roblox\nRSVP at: +95-9-2525 222 11\n+95-9-2550 222 11
URL:https://littlecodelab.com/event/free-trial-workshop-mandalay-2/
LOCATION:Mandalay\, Ma 84/2\, 35th St\, Bet: 52nd & Mdy-Pywin Oo Lwin St\, Yemon Taung\,\, Mandalay\, Myanmar
CATEGORIES:Trial
ATTACH;FMTTYPE=image/jpeg:https://littlecodelab.com/wp-content/uploads/2019/03/New-Project-2-min.jpg
ORGANIZER;CN="Little%20CodeLab":MAILTO:info@heinw6.sg-host.com
END:VEVENT
BEGIN:VEVENT
DTSTART;TZID=UTC:20190325T173000
DTEND;TZID=UTC:20190325T183000
DTSTAMP:20260421T200352
CREATED:20190318T094451Z
LAST-MODIFIED:20190318T094451Z
UID:2643-1553535000-1553538600@littlecodelab.com
SUMMARY:FREE Trial Workshop Yangon!
DESCRIPTION:Agenda\n5-10 min What is Coding or Programming?\nExample and classroom activity\n15-20 min Create your 1st own mini game or app\n5-10 min Fun time with DIY tool kit\n10-15 min Programming the Robots or Drones!\n10 min Virtual Reality Experience or Coding with Minecraft or 3D Game\nDesign with Roblox\nRSVP at: +95-9-2525 222 11\n+95-9-2550 222 11
URL:https://littlecodelab.com/event/free-trial-workshop-yangon/
LOCATION:Yangon\, Yangon: G10-12\, Ground Fl\, Building A/B\, Kabaraye Pagoda Rd\, Pearl Condominium\,\, Yangon\, Myanmar
CATEGORIES:Trial
ATTACH;FMTTYPE=image/jpeg:https://littlecodelab.com/wp-content/uploads/2019/03/46395272_349585095851098_7910920362949345280_o.jpg
ORGANIZER;CN="Little%20CodeLab":MAILTO:info@heinw6.sg-host.com
END:VEVENT
BEGIN:VEVENT
DTSTART;TZID=UTC:20190322T163000
DTEND;TZID=UTC:20190322T173000
DTSTAMP:20260421T200352
CREATED:20190318T094318Z
LAST-MODIFIED:20190318T094804Z
UID:2639-1553272200-1553275800@littlecodelab.com
SUMMARY:FREE Trial Workshop Mandalay!
DESCRIPTION:Agenda\n5-10 min What is Coding or Programming?\nExample and classroom activity\n15-20 min Create your 1st own mini game or app\n5-10 min Fun time with DIY tool kit\n10-15 min Programming the Robots or Drones!\n10 min Virtual Reality Experience or Coding with Minecraft or 3D Game\nDesign with Roblox\nRSVP at: +95-9-2525 222 11\n+95-9-2550 222 11
URL:https://littlecodelab.com/event/free-trial-workshop-mandalay/
LOCATION:Mandalay\, Ma 84/2\, 35th St\, Bet: 52nd & Mdy-Pywin Oo Lwin St\, Yemon Taung\,\, Mandalay\, Myanmar
CATEGORIES:Trial
ATTACH;FMTTYPE=image/jpeg:https://littlecodelab.com/wp-content/uploads/2019/03/New-Project-2-min.jpg
ORGANIZER;CN="Little%20CodeLab":MAILTO:info@heinw6.sg-host.com
END:VEVENT
END:VCALENDAR