BEGIN:VCALENDAR
VERSION:2.0
PRODID:-//Little CodeLab - ECPv6.0.12//NONSGML v1.0//EN
CALSCALE:GREGORIAN
METHOD:PUBLISH
X-WR-CALNAME:Little CodeLab
X-ORIGINAL-URL:https://littlecodelab.com
X-WR-CALDESC:Events for Little CodeLab
REFRESH-INTERVAL;VALUE=DURATION:PT1H
X-Robots-Tag:noindex
X-PUBLISHED-TTL:PT1H
BEGIN:VTIMEZONE
TZID:UTC
BEGIN:STANDARD
TZOFFSETFROM:+0000
TZOFFSETTO:+0000
TZNAME:UTC
DTSTART:20190101T000000
END:STANDARD
END:VTIMEZONE
BEGIN:VEVENT
DTSTART;TZID=UTC:20190405T163000
DTEND;TZID=UTC:20190405T173000
DTSTAMP:20260421T171801
CREATED:20190318T095429Z
LAST-MODIFIED:20190318T095429Z
UID:2649-1554481800-1554485400@littlecodelab.com
SUMMARY:FREE Trial Workshop Mandalay!
DESCRIPTION:Agenda\n5-10 min What is Coding or Programming?\nExample and classroom activity\n15-20 min Create your 1st own mini game or app\n5-10 min Fun time with DIY tool kit\n10-15 min Programming the Robots or Drones!\n10 min Virtual Reality Experience or Coding with Minecraft or 3D Game\nDesign with Roblox\nRSVP at: +95-9-2525 222 11\n+95-9-2550 222 11
URL:https://littlecodelab.com/event/free-trial-workshop-mandalay-2-2/
LOCATION:Mandalay\, Ma 84/2\, 35th St\, Bet: 52nd & Mdy-Pywin Oo Lwin St\, Yemon Taung\,\, Mandalay\, Myanmar
CATEGORIES:Trial
ATTACH;FMTTYPE=image/jpeg:https://littlecodelab.com/wp-content/uploads/2019/03/New-Project-2-min.jpg
ORGANIZER;CN="Little%20CodeLab":MAILTO:info@heinw6.sg-host.com
END:VEVENT
BEGIN:VEVENT
DTSTART;TZID=UTC:20190401T173000
DTEND;TZID=UTC:20190401T183000
DTSTAMP:20260421T171801
CREATED:20190318T095029Z
LAST-MODIFIED:20190318T095029Z
UID:2647-1554139800-1554143400@littlecodelab.com
SUMMARY:FREE Trial Workshop Yangon!
DESCRIPTION:Agenda\n5-10 min What is Coding or Programming?\nExample and classroom activity\n15-20 min Create your 1st own mini game or app\n5-10 min Fun time with DIY tool kit\n10-15 min Programming the Robots or Drones!\n10 min Virtual Reality Experience or Coding with Minecraft or 3D Game\nDesign with Roblox\nRSVP at: +95-9-2525 222 11\n+95-9-2550 222 11
URL:https://littlecodelab.com/event/free-trial-workshop-yangon-2/
LOCATION:Yangon\, Yangon: G10-12\, Ground Fl\, Building A/B\, Kabaraye Pagoda Rd\, Pearl Condominium\,\, Yangon\, Myanmar
CATEGORIES:Trial
ATTACH;FMTTYPE=image/jpeg:https://littlecodelab.com/wp-content/uploads/2019/03/46395272_349585095851098_7910920362949345280_o.jpg
ORGANIZER;CN="Little%20CodeLab":MAILTO:info@heinw6.sg-host.com
END:VEVENT
BEGIN:VEVENT
DTSTART;TZID=UTC:20190329T163000
DTEND;TZID=UTC:20190329T173000
DTSTAMP:20260421T171801
CREATED:20190318T094735Z
LAST-MODIFIED:20190318T094735Z
UID:2645-1553877000-1553880600@littlecodelab.com
SUMMARY:FREE Trial Workshop Mandalay!
DESCRIPTION:Agenda\n5-10 min What is Coding or Programming?\nExample and classroom activity\n15-20 min Create your 1st own mini game or app\n5-10 min Fun time with DIY tool kit\n10-15 min Programming the Robots or Drones!\n10 min Virtual Reality Experience or Coding with Minecraft or 3D Game\nDesign with Roblox\nRSVP at: +95-9-2525 222 11\n+95-9-2550 222 11
URL:https://littlecodelab.com/event/free-trial-workshop-mandalay-2/
LOCATION:Mandalay\, Ma 84/2\, 35th St\, Bet: 52nd & Mdy-Pywin Oo Lwin St\, Yemon Taung\,\, Mandalay\, Myanmar
CATEGORIES:Trial
ATTACH;FMTTYPE=image/jpeg:https://littlecodelab.com/wp-content/uploads/2019/03/New-Project-2-min.jpg
ORGANIZER;CN="Little%20CodeLab":MAILTO:info@heinw6.sg-host.com
END:VEVENT
BEGIN:VEVENT
DTSTART;TZID=UTC:20190325T173000
DTEND;TZID=UTC:20190325T183000
DTSTAMP:20260421T171801
CREATED:20190318T094451Z
LAST-MODIFIED:20190318T094451Z
UID:2643-1553535000-1553538600@littlecodelab.com
SUMMARY:FREE Trial Workshop Yangon!
DESCRIPTION:Agenda\n5-10 min What is Coding or Programming?\nExample and classroom activity\n15-20 min Create your 1st own mini game or app\n5-10 min Fun time with DIY tool kit\n10-15 min Programming the Robots or Drones!\n10 min Virtual Reality Experience or Coding with Minecraft or 3D Game\nDesign with Roblox\nRSVP at: +95-9-2525 222 11\n+95-9-2550 222 11
URL:https://littlecodelab.com/event/free-trial-workshop-yangon/
LOCATION:Yangon\, Yangon: G10-12\, Ground Fl\, Building A/B\, Kabaraye Pagoda Rd\, Pearl Condominium\,\, Yangon\, Myanmar
CATEGORIES:Trial
ATTACH;FMTTYPE=image/jpeg:https://littlecodelab.com/wp-content/uploads/2019/03/46395272_349585095851098_7910920362949345280_o.jpg
ORGANIZER;CN="Little%20CodeLab":MAILTO:info@heinw6.sg-host.com
END:VEVENT
BEGIN:VEVENT
DTSTART;TZID=UTC:20190322T163000
DTEND;TZID=UTC:20190322T173000
DTSTAMP:20260421T171801
CREATED:20190318T094318Z
LAST-MODIFIED:20190318T094804Z
UID:2639-1553272200-1553275800@littlecodelab.com
SUMMARY:FREE Trial Workshop Mandalay!
DESCRIPTION:Agenda\n5-10 min What is Coding or Programming?\nExample and classroom activity\n15-20 min Create your 1st own mini game or app\n5-10 min Fun time with DIY tool kit\n10-15 min Programming the Robots or Drones!\n10 min Virtual Reality Experience or Coding with Minecraft or 3D Game\nDesign with Roblox\nRSVP at: +95-9-2525 222 11\n+95-9-2550 222 11
URL:https://littlecodelab.com/event/free-trial-workshop-mandalay/
LOCATION:Mandalay\, Ma 84/2\, 35th St\, Bet: 52nd & Mdy-Pywin Oo Lwin St\, Yemon Taung\,\, Mandalay\, Myanmar
CATEGORIES:Trial
ATTACH;FMTTYPE=image/jpeg:https://littlecodelab.com/wp-content/uploads/2019/03/New-Project-2-min.jpg
ORGANIZER;CN="Little%20CodeLab":MAILTO:info@heinw6.sg-host.com
END:VEVENT
END:VCALENDAR